{"text_format":"1","workbook":"xlsx","n_sheets":3,"sheets":["2023見積書- 3DVisual","2023見積書- 木造住宅","リスト表"],"not_rendered":{"charts":0,"images":0,"macros":1,"external_links":1,"defined_names":27,"comments":0,"pivot_tables":0},"unopened":[],"bounds":{"document_bytes":16777216,"sheet_cells":100000,"rows_first":2000,"rows_last":500,"rows_between":2000,"halvings":0,"cell_chars":16384,"cell_head_chars":4096},"cells_cut":0,"cells_raw":0,"read":"whole","date_system":"1900"}

{"sheet":"2023見積書- 3DVisual","index":0,"n_rows":39,"n_cols":13,"rows_kept":39,"cut":false,"hidden":false,"merged":[[6,0,7,3],[6,4,7,4],[19,12,20,12],[35,8,35,9],[19,10,20,10],[19,11,20,11],[19,6,19,8],[19,9,20,9],[19,0,20,0],[19,1,20,1],[19,2,20,2],[19,3,20,3],[19,4,20,4],[6,10,7,12],[13,1,14,1],[13,2,14,4],[19,5,20,5],[6,5,7,5],[34,8,34,10],[36,8,36,10],[0,2,0,8],[1,2,1,8],[6,6,7,6],[9,10,9,12]]}
[null,null,"御見積書(仮)"]
[null,null," ------   o0o   ------"]
[]
[null,null,null,null,null,null,null,null,null,null,null,"見積日：",{"$f":"TODAY()","v":"2023-06-05"}]
[null,null,null,null,null,null,null,null,null,null,null,"見積番号："]
[]
[null,null,null,null,"御中",null,null,null,null,null,"株式会社ＯＳＣＡＲ Ｊ.V"]
[]
[null,null,null,null,null,null,null,null,null,null,"Unit 506, Waseco Building"]
[null,null,null,null,null,null,null,null,null,null,"10 Pho Quang St, Tan Binh Dist, HCMC, VIET NAM"]
[null,"下記の通り御見積申し上げます。",null,null,null,null,null,null,null,null,"TEL:"," +84 2836 200 493"]
[null,null,null,null,null,null,null,null,null,null,"FAX:"," +84 2836 200 410"]
[]
[null,"合計金額",{"$f":"$M$37","v":0},null,null,null,null,null,null,null,"口振込口座",null,"Vietcombank"]
[null,null,null,null,null,null,null,null,null,null,"口座番号",null,"0531002538522"]
[null,null,null,null,"（消費税含）",null,null,null,null,null,"口座名義",null,"(株)OSCAR  J.V"]
[]
[]
[]
["No.","建築物の用途","数棟","パース","品質","納品","追加事項",null,null,"単価","追加費用","数量（枚）","金額(**)"]
[null,null,null,null,null,null,"視点","新規モデル","納期短縮"]
["(1)","(2)","(3)","(4)","(5)","(6)","(7)","(8)","(9)","(10)","(11)","(12)","(13)"]
[null,null,null,null,null,null,null,null,null,{"$f":"IF(A23=\"\",\"\",SUMIFS(リスト表!$Q$25:$Q$50,リスト表!M25:$M$50,'2023見積書- 3DVisual'!B23,リスト表!N25:$N$50,'2023見積書- 3DVisual'!E23,リスト表!O25:$O$50,'2023見積書- 3DVisual'!F23))","v":""},{"$f":"IF(A23=\"\",\"\",J23*IF(G23=\"無し\",1,LEFT(G23,1))+(リスト表!$Q$3*'2023見積書- 3DVisual'!H23)+(VLOOKUP(I23,リスト表!$H$2:$J$5,3,0)))","v":""},2,{"$f":"IF(A23=\"\",\"\",(J23+K23)*L23)","v":""}]
[null,null,null,null,null,null,null,null,null,{"$f":"IF(A24=\"\",\"\",SUMIFS(リスト表!$Q$25:$Q$50,リスト表!M26:$M$50,'2023見積書- 3DVisual'!B24,リスト表!N26:$N$50,'2023見積書- 3DVisual'!E24,リスト表!O26:$O$50,'2023見積書- 3DVisual'!F24))","v":""},{"$f":"IF(A24=\"\",\"\",J24*IF(G24=\"無し\",1,LEFT(G24,1))+(リスト表!$Q$3*'2023見積書- 3DVisual'!H24)+(VLOOKUP(I24,リスト表!$H$2:$J$5,3,0)))","v":""},null,{"$f":"IF(A24=\"\",\"\",(J24+K24)*L24)","v":""}]
[null,null,null,null,null,null,null,null,null,{"$f":"IF(A25=\"\",\"\",SUMIFS(リスト表!$Q$25:$Q$50,リスト表!M27:$M$50,'2023見積書- 3DVisual'!B25,リスト表!N27:$N$50,'2023見積書- 3DVisual'!E25,リスト表!O27:$O$50,'2023見積書- 3DVisual'!F25))","v":""},{"$f":"IF(A25=\"\",\"\",J25*IF(G25=\"無し\",1,LEFT(G25,1))+(リスト表!$Q$3*'2023見積書- 3DVisual'!H25)+(VLOOKUP(I25,リスト表!$H$2:$J$5,3,0)))","v":""},null,""]
[null,null,null,null,null,null,null,null,null,{"$f":"IF(A26=\"\",\"\",SUMIFS(リスト表!$Q$25:$Q$50,リスト表!M28:$M$50,'2023見積書- 3DVisual'!B26,リスト表!N28:$N$50,'2023見積書- 3DVisual'!E26,リスト表!O28:$O$50,'2023見積書- 3DVisual'!F26))","v":""},{"$f":"IF(A26=\"\",\"\",J26*IF(G26=\"無し\",1,LEFT(G26,1))+(リスト表!$Q$3*'2023見積書- 3DVisual'!H26)+(VLOOKUP(I26,リスト表!$H$2:$J$5,3,0)))","v":""},null,""]
[null,null,null,null,null,null,null,null,null,{"$f":"IF(A27=\"\",\"\",SUMIFS(リスト表!$Q$25:$Q$50,リスト表!M29:$M$50,'2023見積書- 3DVisual'!B27,リスト表!N29:$N$50,'2023見積書- 3DVisual'!E27,リスト表!O29:$O$50,'2023見積書- 3DVisual'!F27))","v":""},{"$f":"IF(A27=\"\",\"\",J27*IF(G27=\"無し\",1,LEFT(G27,1))+(リスト表!$Q$3*'2023見積書- 3DVisual'!H27)+(VLOOKUP(I27,リスト表!$H$2:$J$5,3,0)))","v":""},null,""]
[null,null,null,null,null,null,null,null,null,{"$f":"IF(A28=\"\",\"\",SUMIFS(リスト表!$Q$25:$Q$50,リスト表!M30:$M$50,'2023見積書- 3DVisual'!B28,リスト表!N30:$N$50,'2023見積書- 3DVisual'!E28,リスト表!O30:$O$50,'2023見積書- 3DVisual'!F28))","v":""},{"$f":"IF(A28=\"\",\"\",J28*IF(G28=\"無し\",1,LEFT(G28,1))+(リスト表!$Q$3*'2023見積書- 3DVisual'!H28)+(VLOOKUP(I28,リスト表!$H$2:$J$5,3,0)))","v":""},null,""]
[null,null,null,null,null,null,null,null,null,{"$f":"IF(A29=\"\",\"\",SUMIFS(リスト表!$Q$25:$Q$50,リスト表!M31:$M$50,'2023見積書- 3DVisual'!B29,リスト表!N31:$N$50,'2023見積書- 3DVisual'!E29,リスト表!O31:$O$50,'2023見積書- 3DVisual'!F29))","v":""},{"$f":"IF(A29=\"\",\"\",J29*IF(G29=\"無し\",1,LEFT(G29,1))+(リスト表!$Q$3*'2023見積書- 3DVisual'!H29)+(VLOOKUP(I29,リスト表!$H$2:$J$5,3,0)))","v":""},null,""]
[null,null,null,null,null,null,null,null,null,{"$f":"IF(A30=\"\",\"\",SUMIFS(リスト表!$Q$25:$Q$50,リスト表!M32:$M$50,'2023見積書- 3DVisual'!B30,リスト表!N32:$N$50,'2023見積書- 3DVisual'!E30,リスト表!O32:$O$50,'2023見積書- 3DVisual'!F30))","v":""},{"$f":"IF(A30=\"\",\"\",J30*IF(G30=\"無し\",1,LEFT(G30,1))+(リスト表!$Q$3*'2023見積書- 3DVisual'!H30)+(VLOOKUP(I30,リスト表!$H$2:$J$5,3,0)))","v":""},null,""]
[null,null,null,null,null,null,null,null,null,{"$f":"IF(A31=\"\",\"\",SUMIFS(リスト表!$Q$25:$Q$50,リスト表!M33:$M$50,'2023見積書- 3DVisual'!B31,リスト表!N33:$N$50,'2023見積書- 3DVisual'!E31,リスト表!O33:$O$50,'2023見積書- 3DVisual'!F31))","v":""},{"$f":"IF(A31=\"\",\"\",J31*IF(G31=\"無し\",1,LEFT(G31,1))+(リスト表!$Q$3*'2023見積書- 3DVisual'!H31)+(VLOOKUP(I31,リスト表!$H$2:$J$5,3,0)))","v":""},null,""]
[]
[]
[]
["備考",null,null,null,null,null,null,null,"小計",null,null,null,{"$f":"SUM($M$23:M32)","v":0}]
[null,null,null,null,null,null,null,null,"消費税(*)",null,0.1,null,{"$f":"M35*K36","v":0}]
[null,null,null,null,null,null,null,null,"合計金額(**)",null,null,null,{"$f":"SUM($M$35:M36)","v":0}]
[null,null,null,null,null,null,null,null,"(*) ベトナムの国内は消費税（VAT）が掛かる、当年指導の通り変更する可能"]
[null,null,null,null,null,null,null,null,"(**) 金額は参照値で、詳細単価についてご連絡の程よろしくお願い致します。"]

{"sheet":"2023見積書- 木造住宅","index":1,"n_rows":39,"n_cols":11,"rows_kept":39,"cut":false,"hidden":false,"merged":[[30,3,30,6],[35,6,35,7],[36,6,36,8],[19,3,20,6],[21,3,21,6],[22,3,22,6],[23,3,23,6],[24,3,24,6],[25,3,25,6],[19,7,20,7],[19,8,20,8],[19,9,20,9],[19,10,20,10],[34,6,34,8],[26,3,26,6],[27,3,27,6],[28,3,28,6],[29,3,29,6],[6,8,7,10],[9,8,9,10],[13,1,14,1],[13,2,14,4],[19,0,20,0],[19,1,20,1],[19,2,20,2],[0,2,0,6],[1,2,1,6],[6,0,7,3],[6,4,7,4],[6,5,7,5]]}
[null,null,"御見積書(仮)"]
[null,null," ------   o0o   ------"]
[]
[null,null,null,null,null,null,null,null,null,"見積日：",{"$f":"TODAY()","v":"2023-06-05"}]
[null,null,null,null,null,null,null,null,null,"見積番号："]
[]
[null,null,null,null,"御中",null,null,null,"株式会社ＯＳＣＡＲ Ｊ.V"]
[]
[null,null,null,null,null,null,null,null,"Unit 506, Waseco Building"]
[null,null,null,null,null,null,null,null,"10 Pho Quang St, Tan Binh Dist, HCMC, VIET NAM"]
[null,"下記の通り御見積申し上げます。",null,null,null,null,null,null,"TEL:"," +84 2836 200 493"]
[null,null,null,null,null,null,null,null,"FAX:"," +84 2836 200 410"]
[]
[null,"合計金額",{"$f":"$K$37","v":0},null,null,null,null,null,"口振込口座",null,"Vietcombank"]
[null,null,null,null,null,null,null,null,"口座番号",null,"0531002538522"]
[null,null,null,null,"（消費税含）",null,null,null,"口座名義",null,"(株)OSCAR  J.V"]
[]
[]
[]
["No.","建築物の用途","数棟","委託業務内容",null,null,null,"設定工数","単価","件数","金額(**)"]
[]
["(1)","(2)","(3)","(4)",null,null,null,"(5)","(6)","(7)","(8)"]
[null,null,null,null,null,null,null,{"$f":"IF(A23=\"\",\"\",VLOOKUP(D23,リスト表!$L$46:$N$52,2,0))","v":""},{"$f":"IF(A23=\"\",\"\",VLOOKUP(D23,リスト表!$L$46:$N$52,3,0))","v":""},null,{"$f":"IF(A23=\"\",\"\",I23*J23*C23)","v":""}]
[null,null,null,null,null,null,null,{"$f":"IF(A24=\"\",\"\",VLOOKUP(D24,リスト表!$L$46:$N$52,2,0))","v":""},{"$f":"IF(A24=\"\",\"\",VLOOKUP(D24,リスト表!$L$46:$N$52,3,0))","v":""},null,{"$f":"IF(A24=\"\",\"\",I24*J24)","v":""}]
[null,null,null,null,null,null,null,{"$f":"IF(A25=\"\",\"\",VLOOKUP(D25,リスト表!$L$46:$N$52,2,0))","v":""},{"$f":"IF(A25=\"\",\"\",VLOOKUP(D25,リスト表!$L$46:$N$52,3,0))","v":""},null,""]
[null,null,null,null,null,null,null,{"$f":"IF(A26=\"\",\"\",VLOOKUP(D26,リスト表!$L$46:$N$52,2,0))","v":""},{"$f":"IF(A26=\"\",\"\",VLOOKUP(D26,リスト表!$L$46:$N$52,3,0))","v":""},null,""]
[null,null,null,null,null,null,null,{"$f":"IF(A27=\"\",\"\",VLOOKUP(D27,リスト表!$L$46:$N$52,2,0))","v":""},{"$f":"IF(A27=\"\",\"\",VLOOKUP(D27,リスト表!$L$46:$N$52,3,0))","v":""},null,""]
[null,null,null,null,null,null,null,{"$f":"IF(A28=\"\",\"\",VLOOKUP(D28,リスト表!$L$46:$N$52,2,0))","v":""},{"$f":"IF(A28=\"\",\"\",VLOOKUP(D28,リスト表!$L$46:$N$52,3,0))","v":""},null,""]
[null,null,null,null,null,null,null,{"$f":"IF(A29=\"\",\"\",VLOOKUP(D29,リスト表!$L$46:$N$52,2,0))","v":""},{"$f":"IF(A29=\"\",\"\",VLOOKUP(D29,リスト表!$L$46:$N$52,3,0))","v":""},null,""]
[null,null,null,null,null,null,null,{"$f":"IF(A30=\"\",\"\",VLOOKUP(D30,リスト表!$L$46:$N$52,2,0))","v":""},{"$f":"IF(A30=\"\",\"\",VLOOKUP(D30,リスト表!$L$46:$N$52,3,0))","v":""},null,""]
[null,null,null,null,null,null,null,{"$f":"IF(A31=\"\",\"\",VLOOKUP(D31,リスト表!$L$46:$N$52,2,0))","v":""},{"$f":"IF(A31=\"\",\"\",VLOOKUP(D31,リスト表!$L$46:$N$52,3,0))","v":""},null,""]
[]
[]
[]
["備考",null,null,null,null,null,"小計",null,null,null,{"$f":"SUM($K$23:K32)","v":0}]
[null,null,null,null,null,null,"消費税(*)",null,0.1,null,{"$f":"K35*I36","v":0}]
[null,null,null,null,null,null,"合計金額(**)",null,null,null,{"$f":"SUM($K$35:K36)","v":0}]
[null,null,null,null,null,null,"(*) ベトナムの国内は消費税（VAT）が掛かる、当年指導の通り変更する可能"]
[null,null,null,null,null,null,"(**) 金額は参照値で、詳細単価についてご連絡の程よろしくお願い致します。"]

{"sheet":"リスト表","index":2,"n_rows":52,"n_cols":21,"rows_kept":52,"cut":false,"hidden":true,"merged":[]}
["建築物の用途",null,"外観・内観","プラン","納品","削減",0.1,"納期短縮",null,5000,null,null,2500,23000,1.1000000000000001,1.2,null,"削減",0.1,"件数","割引率"]
["住宅","無し","外観","BASIC","CGパース","1視点追加",0.05,"無し","5 営業日",0,null,null,null,170,null,5000,null,"外観・内観",0.05,50,0.1]
["連棟","数棟","内観","PREMIUM","パノラマURL","2視点追加",{"$f":"$G$1+G2","v":0.15000000000000002},"1日短縮","4 営業日",{"$f":"$J$1*LEFT(H3,1)","v":5000},null,null,"モデル",null,null,{"$f":"7*$N$1*$O$1/$N$2","v":1041.7647058823529},{"$f":"IF(P3=\"\",\"\",P3*$P$1)","v":1250.1176470588234},"外観",{"$f":"$G$1+S2","v":0.15000000000000002},100,0.15]
[null,null,null,"PRO","パノラマ写真","3視点追加",{"$f":"$G$1+G3","v":0.25},"2日短縮","3 営業日",{"$f":"$J$1*LEFT(H4,1)","v":10000},null,"【OSCAR】企画業務 不動産用3D 外観","住宅","BASIC",{"$f":"$E$2","v":"CGパース"},{"$f":"IF($L4=\"\",\"\",INDEX(#REF!,MATCH($L4,#REF!,0)))","v":{"$error":"#REF!"}},{"$f":"IF(P4=\"\",\"\",P4*$P$1)","v":{"$error":"#REF!"}},"内観",{"$f":"$G$1+S3","v":0.25},150,0.2]
[null,null,null,null,"アニメーション","4視点追加",0.35,"3日短縮","2 営業日",15000,null,"【OSCAR】企画業務 不動産用3D 外観","住宅","BASIC","パノラマURL",{"$f":"IF($L5=\"\",\"\",INDEX(#REF!,MATCH($L5,#REF!,0)))","v":{"$error":"#REF!"}},{"$f":"IF(P5=\"\",\"\",P5*$P$1)","v":{"$error":"#REF!"}}]
[null,null,null,null,null,"5視点追加",0.44999999999999996,null,null,null,null,null,"住宅","PREMIUM",{"$f":"$E$2","v":"CGパース"},25000,30000]
[null,null,null,null,null,"無し",null,null,null,null,null,null,"住宅","PREMIUM","パノラマURL",25000,30000]
[null,null,null,null,null,null,null,null,null,null,null,"【68AM】 企画業務 P-アイレベルパース―外観戸建","住宅","PRO",{"$f":"$E$2","v":"CGパース"},{"$f":"IF($L8=\"\",\"\",INDEX(#REF!,MATCH($L8,#REF!,0)))","v":{"$error":"#REF!"}},{"$f":"IF(P8=\"\",\"\",(P8-$P$2)*$P$1)","v":{"$error":"#REF!"}}]
[null,null,null,null,null,null,null,null,null,null,null,"【68AM】 企画業務 P-不動産用3D 外観","住宅","PRO","パノラマURL",{"$f":"IF($L9=\"\",\"\",INDEX(#REF!,MATCH($L9,#REF!,0)))","v":{"$error":"#REF!"}},{"$f":"P9","v":{"$error":"#REF!"}}]
[null,null,null,null,null,null,null,null,null,null,null,"【OSCAR】企画業務 不動産用3D 外観_連棟","連棟","BASIC",{"$f":"$E$2","v":"CGパース"},{"$f":"IF($L10=\"\",\"\",INDEX(#REF!,MATCH($L10,#REF!,0)))","v":{"$error":"#REF!"}},{"$error":"#REF!"}]
[null,null,null,null,null,null,null,null,null,null,null,"【OSCAR】企画業務 不動産用3D 外観_連棟","連棟","BASIC","パノラマURL",{"$f":"IF($L11=\"\",\"\",INDEX(#REF!,MATCH($L11,#REF!,0)))","v":{"$error":"#REF!"}},{"$error":"#REF!"}]
[null,null,null,null,null,null,null,null,null,null,null,null,"連棟","PREMIUM",{"$f":"$E$2","v":"CGパース"},25000,30000]
[null,null,null,null,"2D写真",null,null,null,null,null,null,null,"連棟","PREMIUM","パノラマURL",25000,30000]
[null,null,null,null,null,null,null,null,null,null,null,"【68AM】 企画業務 P-アイレベル＿連棟パース―外観","連棟","PRO",{"$f":"$E$2","v":"CGパース"},{"$f":"IF($L14=\"\",\"\",INDEX(#REF!,MATCH($L14,#REF!,0)))","v":{"$error":"#REF!"}},{"$f":"IF(P14=\"\",\"\",(P14-$P$2)*$P$1)","v":{"$error":"#REF!"}}]
[null,null,null,null,null,null,null,null,null,null,null,"【68AM】 企画業務 P-不動産用3D 外観","連棟","PRO","パノラマURL",{"$f":"IF($L15=\"\",\"\",INDEX(#REF!,MATCH($L15,#REF!,0)))","v":{"$error":"#REF!"}},{"$f":"P15","v":{"$error":"#REF!"}}]
[null,null,null,null,null,null,null,null,null,null,null,"【OSCAR】企画業務 不動産用3D 変更","住宅","BASIC",{"$f":"$E$2","v":"CGパース"},{"$f":"IF($L16=\"\",\"\",INDEX(#REF!,MATCH($L16,#REF!,0)))","v":{"$error":"#REF!"}},{"$error":"#REF!"}]
[null,null,null,null,null,null,null,null,null,null,null,"【OSCAR】企画業務 不動産用3D 変更","住宅","BASIC","パノラマURL",{"$f":"IF($L17=\"\",\"\",INDEX(#REF!,MATCH($L17,#REF!,0)))","v":{"$error":"#REF!"}},{"$error":"#REF!"}]
[]
[]
[]
[]
[null,null,null,null,null,null,null,null,null,null,null,null,null,null,null,null,null,"plus"]
[null,null,null,null,null,null,null,null,null,null,null,null,null,null,null,null,null,0.1]
[]
[null,null,null,null,null,null,null,null,null,null,"2023-05-10","【OSCAR】企画業務 不動産用3D 外観","住宅","BASIC","パノラマ写真",{"$f":"(R25*$R$23)+R25","v":22000},{"$f":"(S25*$R$23)+S25","v":26400},20000,24000]
[null,null,null,null,null,null,null,null,null,null,null,null,"住宅","PREMIUM","パノラマ写真",{"$f":"(R26*$R$23)+R26","v":27500},{"$f":"(S26*$R$23)+S26","v":33000},25000,30000]
[null,null,null,null,null,null,null,null,null,null,null,"【68AM】 企画業務 P-アイレベルパース―外観戸建","住宅","PRO","パノラマ写真",38240.400000000001,39288.479999999996,34764,35716.799999999996]
[null,null,null,null,null,null,null,null,null,null,null,"【OSCAR】企画業務 不動産用3D 外観_連棟","連棟","BASIC","パノラマ写真",22000,26400,20000,24000]
[null,null,null,null,null,null,null,null,null,null,null,null,"連棟","PREMIUM","パノラマ写真",27500,33000,25000,30000]
[null,null,null,null,null,null,null,null,null,null,null,"【68AM】 企画業務 P-アイレベル＿連棟パース―外観","連棟","PRO","パノラマ写真",46425.5,49110.6,42205,44646]
[null,null,null,null,null,null,null,null,null,null,null,"【OSCAR】企画業務 不動産用3D 変更","住宅","BASIC","パノラマ写真",11000,13200,10000,12000]
[]
[null,null,null,null,null,null,null,null,null,null,null,null,null,null,null,null,null,"plus"]
[null,null,null,null,null,null,null,null,null,null,null,null,null,null,null,null,null,0.2]
[]
[null,null,null,null,null,null,null,null,null,null,null,"【OSCAR】企画業務 不動産用3D 外観","住宅","BASIC","アニメーション",{"$f":"(R36*$R$34)+R36","v":24000},{"$f":"(S36*$R$34)+S36","v":28800},20000,24000]
[null,null,null,null,null,null,null,null,null,null,null,null,"住宅","PREMIUM","アニメーション",{"$f":"(R37*$R$34)+R37","v":30000},{"$f":"(S37*$R$34)+S37","v":36000},25000,30000]
[null,null,null,null,null,null,null,null,null,null,null,"【68AM】 企画業務 P-不動産用3D 外観","住宅","PRO","アニメーション",80364,80364,66970,66970]
[null,null,null,null,null,null,null,null,null,null,null,"【OSCAR】企画業務 不動産用3D 外観_連棟","連棟","BASIC","アニメーション",24000,28800,20000,24000]
[null,null,null,null,null,null,null,null,null,null,null,null,"連棟","PREMIUM","アニメーション",30000,36000,25000,30000]
[null,null,null,null,null,null,null,null,null,null,null,"【68AM】 企画業務 P-不動産用3D 外観","連棟","PRO","アニメーション",80364,80364,66970,66970]
[null,null,null,null,null,null,null,null,null,null,null,"【OSCAR】企画業務 不動産用3D 変更","住宅","BASIC","アニメーション",12000,14400,10000,12000]
[]
[]
[]
[null,null,null,null,null,null,null,null,null,null,null,"電気配線図　新規",3,{"$f":"M46*$M$1","v":7500}]
[null,null,null,null,null,null,null,null,null,null,null,"パネル図 新規入力",18,{"$f":"M47*$M$1","v":45000}]
[null,null,null,null,null,null,null,null,null,null,null,"構造図 構造計算書/UA値計算書",5,12500]
[null,null,null,null,null,null,null,null,null,null,null,"展開図 ",6,15000]
[null,null,null,null,null,null,null,null,null,null,null,"積算 外部・内部積算",7,17500]
[null,null,null,null,null,null,null,null,null,null,null,"大東建託_パネル図 大東新規入力",56,140000]
[null,null,null,null,null,null,null,null,null,null,null," 新規入力（データ無）",6,15000]